BEGIN:VCALENDAR
VERSION:2.0
METHOD:PUBLISH
X-WR-CALNAME:Veranstaltungen-Seelsorgeeinheit-September-2026
PRODID:-//www.se-winnenden.de//iCal
X-WR-CALDESC:Veranstaltungen
X-WR-TIMEZONE:Europe/Berlin
CALSCALE:GREGORIAN
BEGIN:VEVENT
UID:SEWSL-Seelsorgeeinheit-s15162006
DESCRIPTION:Strickcafé
SUMMARY:Strickcafé
DTSTART:20260902T140000
DTEND:20260902T160000
DTSTAMP:20260424T000000Z
LOCATION:Gemein&shyde&shy;saal St. Maria, Schwaikheim
TRANSP:TRANSPARENT
BEGIN:VALARM
TRIGGER:-PT0H30M
ACTION:DISPLAY
SUMMARY:Strickcafé
END:VALARM
END:VEVENT
BEGIN:VEVENT
UID:SEWSL-Seelsorgeeinheit-b15652827
DESCRIPTION:Bibel und Bier
SUMMARY:Bibel und Bier
DTSTART:20260903T190000
DTEND:20260903T203000
DTSTAMP:20260424T000000Z
LOCATION:Gasthaus Lamm, Bittenfeld
TRANSP:TRANSPARENT
BEGIN:VALARM
TRIGGER:-PT0H30M
ACTION:DISPLAY
SUMMARY:Bibel und Bier
END:VALARM
END:VEVENT
BEGIN:VEVENT
UID:SEWSL-Seelsorgeeinheit-l14400016
DESCRIPTION:Ökum. Strickkreis
SUMMARY:Ökum. Strickkreis
DTSTART:20260905T143000
DTEND:20260905T170000
DTSTAMP:20260424T000000Z
LOCATION:Gemein&shyde&shy;saal St. Jakobus, Leutenbach
TRANSP:TRANSPARENT
BEGIN:VALARM
TRIGGER:-PT0H30M
ACTION:DISPLAY
SUMMARY:Ökum. Strickkreis
END:VALARM
END:VEVENT
BEGIN:VEVENT
UID:SEWSL-Seelsorgeeinheit-l14484032
DESCRIPTION:Ökumenischer Strickkreis
SUMMARY:Ökumenischer Strickkreis
DTSTART:20260905T143000
DTEND:20260905T170000
DTSTAMP:20260424T000000Z
LOCATION:Gemein&shyde&shy;saal St. Jakobus, Leutenbach
TRANSP:TRANSPARENT
BEGIN:VALARM
TRIGGER:-PT0H30M
ACTION:DISPLAY
SUMMARY:Ökumenischer Strickkreis
END:VALARM
END:VEVENT
BEGIN:VEVENT
UID:SEWSL-Seelsorgeeinheit-w15488483
DESCRIPTION:Verbum Dei - Bibel und Gebet
SUMMARY:Verbum Dei - Bibel und Gebet
DTSTART:20260908T190000
DTEND:20260908T200000
DTSTAMP:20260424T000000Z
LOCATION:Gemein&shyde&shy;saal 4 St. Karl Borromäus, Winnenden
TRANSP:TRANSPARENT
BEGIN:VALARM
TRIGGER:-PT0H30M
ACTION:DISPLAY
SUMMARY:Verbum Dei - Bibel und Gebet
END:VALARM
END:VEVENT
BEGIN:VEVENT
UID:SEWSL-Seelsorgeeinheit-l14504222
DESCRIPTION:Jakobustreff
SUMMARY:Jakobustreff
DTSTART:20260910T143000
DTEND:20260910T170000
DTSTAMP:20260424T000000Z
LOCATION:Gemein&shyde&shy;saal St. Jakobus, Leutenbach
TRANSP:TRANSPARENT
BEGIN:VALARM
TRIGGER:-PT0H30M
ACTION:DISPLAY
SUMMARY:Jakobustreff
END:VALARM
END:VEVENT
BEGIN:VEVENT
UID:SEWSL-Seelsorgeeinheit-l14511240
DESCRIPTION:Spielnachmittag
SUMMARY:Spielnachmittag
DTSTART:20260911T143000
DTEND:20260911T173000
DTSTAMP:20260424T000000Z
LOCATION:Gemein&shyde&shy;saal St. Jakobus, Leutenbach
TRANSP:TRANSPARENT
BEGIN:VALARM
TRIGGER:-PT0H30M
ACTION:DISPLAY
SUMMARY:Spielnachmittag
END:VALARM
END:VEVENT
BEGIN:VEVENT
UID:SEWSL-Seelsorgeeinheit-s15161536
DESCRIPTION:Kinderchorprobe
SUMMARY:Kinderchorprobe
DTSTART:20260914T170000
DTEND:20260914T174500
DTSTAMP:20260424T000000Z
LOCATION:Gemein&shyde&shy;saal St. Maria, Schwaikheim
TRANSP:TRANSPARENT
BEGIN:VALARM
TRIGGER:-PT0H30M
ACTION:DISPLAY
SUMMARY:Kinderchorprobe
END:VALARM
END:VEVENT
BEGIN:VEVENT
UID:SEWSL-Seelsorgeeinheit-s15161991
DESCRIPTION:Ökum. Seniorennachmittag
SUMMARY:Ökum. Seniorennachmittag
DTSTART:20260915T143000
DTEND:20260915T163000
DTSTAMP:20260424T000000Z
LOCATION:Jakobus-Haus, Schwaikheim
TRANSP:TRANSPARENT
BEGIN:VALARM
TRIGGER:-PT0H30M
ACTION:DISPLAY
SUMMARY:Ökum. Seniorennachmittag
END:VALARM
END:VEVENT
BEGIN:VEVENT
UID:SEWSL-Seelsorgeeinheit-w14730659
DESCRIPTION:Folkloretanz Fr. Sütterle-Matschenz
SUMMARY:Folkloretanz Fr. Sütterle-Matschenz
DTSTART:20260915T150000
DTEND:20260915T163000
DTSTAMP:20260424T000000Z
LOCATION:Gemein&shyde&shy;saal 2+3 St. Karl Borromäus, Winnenden
TRANSP:TRANSPARENT
BEGIN:VALARM
TRIGGER:-PT0H30M
ACTION:DISPLAY
SUMMARY:Folkloretanz Fr. Sütterle-Matschenz
END:VALARM
END:VEVENT
BEGIN:VEVENT
UID:SEWSL-Seelsorgeeinheit-b15161672
DESCRIPTION:Kinderchor Tutti
SUMMARY:Kinderchor Tutti
DTSTART:20260915T160000
DTEND:20260915T170000
DTSTAMP:20260424T000000Z
LOCATION:Martinssaal unten St. Martin Bittenfeld
TRANSP:TRANSPARENT
BEGIN:VALARM
TRIGGER:-PT0H30M
ACTION:DISPLAY
SUMMARY:Kinderchor Tutti
END:VALARM
END:VEVENT
BEGIN:VEVENT
UID:SEWSL-Seelsorgeeinheit-s15161499
DESCRIPTION:Flötenkreis
SUMMARY:Flötenkreis
DTSTART:20260915T160000
DTEND:20260915T170000
DTSTAMP:20260424T000000Z
LOCATION:Gemein&shyde&shy;saal St. Maria, Schwaikheim
TRANSP:TRANSPARENT
BEGIN:VALARM
TRIGGER:-PT0H30M
ACTION:DISPLAY
SUMMARY:Flötenkreis
END:VALARM
END:VEVENT
BEGIN:VEVENT
UID:SEWSL-Seelsorgeeinheit-b15272285
DESCRIPTION:Kirchenchorprobe
SUMMARY:Kirchenchorprobe
DTSTART:20260915T190000
DTEND:20260915T210000
DTSTAMP:20260424T000000Z
LOCATION:Martinssaal St. Martin Bittenfeld
TRANSP:TRANSPARENT
BEGIN:VALARM
TRIGGER:-PT0H30M
ACTION:DISPLAY
SUMMARY:Kirchenchorprobe
END:VALARM
END:VEVENT
BEGIN:VEVENT
UID:SEWSL-Seelsorgeeinheit-w14532092
DESCRIPTION:Seniorengymnastik
SUMMARY:Seniorengymnastik
DTSTART:20260916T140000
DTEND:20260916T153000
DTSTAMP:20260424T000000Z
LOCATION:Gemein&shyde&shy;saal 2+3 St. Karl Borromäus, Winnenden
TRANSP:TRANSPARENT
BEGIN:VALARM
TRIGGER:-PT0H30M
ACTION:DISPLAY
SUMMARY:Seniorengymnastik
END:VALARM
END:VEVENT
BEGIN:VEVENT
UID:SEWSL-Seelsorgeeinheit-s15161477
DESCRIPTION:Strickcafé
SUMMARY:Strickcafé
DTSTART:20260916T140000
DTEND:20260916T160000
DTSTAMP:20260424T000000Z
LOCATION:Gemein&shyde&shy;saal St. Maria, Schwaikheim
TRANSP:TRANSPARENT
BEGIN:VALARM
TRIGGER:-PT0H30M
ACTION:DISPLAY
SUMMARY:Strickcafé
END:VALARM
END:VEVENT
BEGIN:VEVENT
UID:SEWSL-Seelsorgeeinheit-b15161605
DESCRIPTION:Donnerstagstreff
SUMMARY:Donnerstagstreff
DTSTART:20260917T150000
DTEND:20260917T170000
DTSTAMP:20260424T000000Z
LOCATION:Konrad-Beringer-Haus, Bittenfeld
TRANSP:TRANSPARENT
BEGIN:VALARM
TRIGGER:-PT0H30M
ACTION:DISPLAY
SUMMARY:Donnerstagstreff
END:VALARM
END:VEVENT
BEGIN:VEVENT
UID:SEWSL-Seelsorgeeinheit-s15161557
DESCRIPTION:Kirchenchorprobe
SUMMARY:Kirchenchorprobe
DTSTART:20260917T193000
DTEND:20260917T213000
DTSTAMP:20260424T000000Z
LOCATION:Gemein&shyde&shy;saal St. Maria, Schwaikheim
TRANSP:TRANSPARENT
BEGIN:VALARM
TRIGGER:-PT0H30M
ACTION:DISPLAY
SUMMARY:Kirchenchorprobe
END:VALARM
END:VEVENT
BEGIN:VEVENT
UID:SEWSL-Seelsorgeeinheit-w14546935
DESCRIPTION:Begegnungstreffen für ukrainische Flüchtlinge
SUMMARY:Begegnungstreffen für ukrainische Flüchtlinge
DTSTART:20260918T150000
DTEND:20260918T180000
DTSTAMP:20260424T000000Z
LOCATION:Gemein&shyde&shy;saal 2+3 St. Karl Borromäus, Winnenden
TRANSP:TRANSPARENT
BEGIN:VALARM
TRIGGER:-PT0H30M
ACTION:DISPLAY
SUMMARY:Begegnungstreffen für ukrainische Flüchtlinge
END:VALARM
END:VEVENT
BEGIN:VEVENT
UID:SEWSL-Seelsorgeeinheit-l14387555
DESCRIPTION:Taufkatechese
SUMMARY:Taufkatechese
DTSTART:20260919T150000
DTEND:20260919T170000
DTSTAMP:20260424T000000Z
LOCATION:Gemein&shyde&shy;saal St. Jakobus, Leutenbach
TRANSP:TRANSPARENT
BEGIN:VALARM
TRIGGER:-PT0H30M
ACTION:DISPLAY
SUMMARY:Taufkatechese
END:VALARM
END:VEVENT
BEGIN:VEVENT
UID:SEWSL-Seelsorgeeinheit-s15161537
DESCRIPTION:Kinderchorprobe
SUMMARY:Kinderchorprobe
DTSTART:20260921T170000
DTEND:20260921T174500
DTSTAMP:20260424T000000Z
LOCATION:Gemein&shyde&shy;saal St. Maria, Schwaikheim
TRANSP:TRANSPARENT
BEGIN:VALARM
TRIGGER:-PT0H30M
ACTION:DISPLAY
SUMMARY:Kinderchorprobe
END:VALARM
END:VEVENT
BEGIN:VEVENT
UID:SEWSL-Seelsorgeeinheit-b15161673
DESCRIPTION:Kinderchor Tutti
SUMMARY:Kinderchor Tutti
DTSTART:20260922T160000
DTEND:20260922T170000
DTSTAMP:20260424T000000Z
LOCATION:Martinssaal unten St. Martin Bittenfeld
TRANSP:TRANSPARENT
BEGIN:VALARM
TRIGGER:-PT0H30M
ACTION:DISPLAY
SUMMARY:Kinderchor Tutti
END:VALARM
END:VEVENT
BEGIN:VEVENT
UID:SEWSL-Seelsorgeeinheit-s15161500
DESCRIPTION:Flötenkreis
SUMMARY:Flötenkreis
DTSTART:20260922T160000
DTEND:20260922T170000
DTSTAMP:20260424T000000Z
LOCATION:Gemein&shyde&shy;saal St. Maria, Schwaikheim
TRANSP:TRANSPARENT
BEGIN:VALARM
TRIGGER:-PT0H30M
ACTION:DISPLAY
SUMMARY:Flötenkreis
END:VALARM
END:VEVENT
BEGIN:VEVENT
UID:SEWSL-Seelsorgeeinheit-w15488487
DESCRIPTION:Verbum Dei - Bibel und Gebet
SUMMARY:Verbum Dei - Bibel und Gebet
DTSTART:20260922T190000
DTEND:20260922T200000
DTSTAMP:20260424T000000Z
LOCATION:Gemein&shyde&shy;saal 4 St. Karl Borromäus, Winnenden
TRANSP:TRANSPARENT
BEGIN:VALARM
TRIGGER:-PT0H30M
ACTION:DISPLAY
SUMMARY:Verbum Dei - Bibel und Gebet
END:VALARM
END:VEVENT
BEGIN:VEVENT
UID:SEWSL-Seelsorgeeinheit-b15272286
DESCRIPTION:Kirchenchorprobe
SUMMARY:Kirchenchorprobe
DTSTART:20260922T190000
DTEND:20260922T210000
DTSTAMP:20260424T000000Z
LOCATION:Martinssaal St. Martin Bittenfeld
TRANSP:TRANSPARENT
BEGIN:VALARM
TRIGGER:-PT0H30M
ACTION:DISPLAY
SUMMARY:Kirchenchorprobe
END:VALARM
END:VEVENT
BEGIN:VEVENT
UID:SEWSL-Seelsorgeeinheit-w14577714
DESCRIPTION:Seniorengymnastik
SUMMARY:Seniorengymnastik
DTSTART:20260923T140000
DTEND:20260923T153000
DTSTAMP:20260424T000000Z
LOCATION:Gemein&shyde&shy;saal 2+3 St. Karl Borromäus, Winnenden
TRANSP:TRANSPARENT
BEGIN:VALARM
TRIGGER:-PT0H30M
ACTION:DISPLAY
SUMMARY:Seniorengymnastik
END:VALARM
END:VEVENT
BEGIN:VEVENT
UID:SEWSL-Seelsorgeeinheit-b15161606
DESCRIPTION:Donnerstagstreff
SUMMARY:Donnerstagstreff
DTSTART:20260924T150000
DTEND:20260924T170000
DTSTAMP:20260424T000000Z
LOCATION:Konrad-Beringer-Haus, Bittenfeld
TRANSP:TRANSPARENT
BEGIN:VALARM
TRIGGER:-PT0H30M
ACTION:DISPLAY
SUMMARY:Donnerstagstreff
END:VALARM
END:VEVENT
BEGIN:VEVENT
UID:SEWSL-Seelsorgeeinheit-s15161558
DESCRIPTION:Kirchenchorprobe
SUMMARY:Kirchenchorprobe
DTSTART:20260924T193000
DTEND:20260924T213000
DTSTAMP:20260424T000000Z
LOCATION:Gemein&shyde&shy;saal St. Maria, Schwaikheim
TRANSP:TRANSPARENT
BEGIN:VALARM
TRIGGER:-PT0H30M
ACTION:DISPLAY
SUMMARY:Kirchenchorprobe
END:VALARM
END:VEVENT
BEGIN:VEVENT
UID:SEWSL-Seelsorgeeinheit-w14591677
DESCRIPTION:Begegnungstreffen für ukrainische Flüchtlinge
SUMMARY:Begegnungstreffen für ukrainische Flüchtlinge
DTSTART:20260925T150000
DTEND:20260925T180000
DTSTAMP:20260424T000000Z
LOCATION:Gemein&shyde&shy;saal 2+3 St. Karl Borromäus, Winnenden
TRANSP:TRANSPARENT
BEGIN:VALARM
TRIGGER:-PT0H30M
ACTION:DISPLAY
SUMMARY:Begegnungstreffen für ukrainische Flüchtlinge
END:VALARM
END:VEVENT
BEGIN:VEVENT
UID:SEWSL-Seelsorgeeinheit-s15161538
DESCRIPTION:Kinderchorprobe
SUMMARY:Kinderchorprobe
DTSTART:20260928T170000
DTEND:20260928T174500
DTSTAMP:20260424T000000Z
LOCATION:Gemein&shyde&shy;saal St. Maria, Schwaikheim
TRANSP:TRANSPARENT
BEGIN:VALARM
TRIGGER:-PT0H30M
ACTION:DISPLAY
SUMMARY:Kinderchorprobe
END:VALARM
END:VEVENT
BEGIN:VEVENT
UID:SEWSL-Seelsorgeeinheit-w14730664
DESCRIPTION:Folkloretanz Fr. Sütterle-Matschenz
SUMMARY:Folkloretanz Fr. Sütterle-Matschenz
DTSTART:20260929T150000
DTEND:20260929T163000
DTSTAMP:20260424T000000Z
LOCATION:Gemein&shyde&shy;saal 2+3 St. Karl Borromäus, Winnenden
TRANSP:TRANSPARENT
BEGIN:VALARM
TRIGGER:-PT0H30M
ACTION:DISPLAY
SUMMARY:Folkloretanz Fr. Sütterle-Matschenz
END:VALARM
END:VEVENT
BEGIN:VEVENT
UID:SEWSL-Seelsorgeeinheit-b15161674
DESCRIPTION:Kinderchor Tutti
SUMMARY:Kinderchor Tutti
DTSTART:20260929T160000
DTEND:20260929T170000
DTSTAMP:20260424T000000Z
LOCATION:Martinssaal unten St. Martin Bittenfeld
TRANSP:TRANSPARENT
BEGIN:VALARM
TRIGGER:-PT0H30M
ACTION:DISPLAY
SUMMARY:Kinderchor Tutti
END:VALARM
END:VEVENT
BEGIN:VEVENT
UID:SEWSL-Seelsorgeeinheit-s15161501
DESCRIPTION:Flötenkreis
SUMMARY:Flötenkreis
DTSTART:20260929T160000
DTEND:20260929T170000
DTSTAMP:20260424T000000Z
LOCATION:Gemein&shyde&shy;saal St. Maria, Schwaikheim
TRANSP:TRANSPARENT
BEGIN:VALARM
TRIGGER:-PT0H30M
ACTION:DISPLAY
SUMMARY:Flötenkreis
END:VALARM
END:VEVENT
BEGIN:VEVENT
UID:SEWSL-Seelsorgeeinheit-b15272287
DESCRIPTION:Kirchenchorprobe
SUMMARY:Kirchenchorprobe
DTSTART:20260929T190000
DTEND:20260929T210000
DTSTAMP:20260424T000000Z
LOCATION:Martinssaal St. Martin Bittenfeld
TRANSP:TRANSPARENT
BEGIN:VALARM
TRIGGER:-PT0H30M
ACTION:DISPLAY
SUMMARY:Kirchenchorprobe
END:VALARM
END:VEVENT
BEGIN:VEVENT
UID:SEWSL-Seelsorgeeinheit-w14615074
DESCRIPTION:Seniorengymnastik
SUMMARY:Seniorengymnastik
DTSTART:20260930T140000
DTEND:20260930T153000
DTSTAMP:20260424T000000Z
LOCATION:Gemein&shyde&shy;saal 2+3 St. Karl Borromäus, Winnenden
TRANSP:TRANSPARENT
BEGIN:VALARM
TRIGGER:-PT0H30M
ACTION:DISPLAY
SUMMARY:Seniorengymnastik
END:VALARM
END:VEVENT
BEGIN:VEVENT
UID:SEWSL-Seelsorgeeinheit-s15162328
DESCRIPTION:Ökum Frauentreff
SUMMARY:Ökum Frauentreff
DTSTART:20260930T200000
DTEND:20260930T220000
DTSTAMP:20260424T000000Z
LOCATION:Gemein&shyde&shy;saal St. Maria, Schwaikheim
TRANSP:TRANSPARENT
BEGIN:VALARM
TRIGGER:-PT0H30M
ACTION:DISPLAY
SUMMARY:Ökum Frauentreff
END:VALARM
END:VEVENT
END:VCALENDAR